BEGIN:VCALENDAR
VERSION:2.0
PRODID:-//Lubelska Grupa Triathlonu - ECPv6.15.20//NONSGML v1.0//EN
CALSCALE:GREGORIAN
METHOD:PUBLISH
X-ORIGINAL-URL:https://triathlonlublin.pl
X-WR-CALDESC:Wydarzenia dla Lubelska Grupa Triathlonu
REFRESH-INTERVAL;VALUE=DURATION:PT1H
X-Robots-Tag:noindex
X-PUBLISHED-TTL:PT1H
BEGIN:VTIMEZONE
TZID:Europe/Warsaw
BEGIN:DAYLIGHT
TZOFFSETFROM:+0100
TZOFFSETTO:+0200
TZNAME:CEST
DTSTART:20210328T010000
END:DAYLIGHT
BEGIN:STANDARD
TZOFFSETFROM:+0200
TZOFFSETTO:+0100
TZNAME:CET
DTSTART:20211031T010000
END:STANDARD
BEGIN:DAYLIGHT
TZOFFSETFROM:+0100
TZOFFSETTO:+0200
TZNAME:CEST
DTSTART:20220327T010000
END:DAYLIGHT
BEGIN:STANDARD
TZOFFSETFROM:+0200
TZOFFSETTO:+0100
TZNAME:CET
DTSTART:20221030T010000
END:STANDARD
BEGIN:DAYLIGHT
TZOFFSETFROM:+0100
TZOFFSETTO:+0200
TZNAME:CEST
DTSTART:20230326T010000
END:DAYLIGHT
BEGIN:STANDARD
TZOFFSETFROM:+0200
TZOFFSETTO:+0100
TZNAME:CET
DTSTART:20231029T010000
END:STANDARD
END:VTIMEZONE
BEGIN:VEVENT
DTSTART;TZID=Europe/Warsaw:20220903T080000
DTEND;TZID=Europe/Warsaw:20220904T170000
DTSTAMP:20260421T123941
CREATED:20220129T172045Z
LAST-MODIFIED:20220129T172045Z
UID:2465-1662192000-1662310800@triathlonlublin.pl
SUMMARY:Castle Triathlon Malbork 2022
DESCRIPTION:
URL:https://triathlonlublin.pl/event/castle-triathlon-malbork-2022/
LOCATION:Malbork
CATEGORIES:1/2 Ironman 70.3 (1,9-90-21),1/4 Ironman (0,95-45-10,55),1/8 sprint (0,75-20-5),Ironman (3,8-180-42),Triathlon
ATTACH;FMTTYPE=image/png:https://triathlonlublin.pl/wp-content/uploads/2022/01/s4_castle_triathlon_1599211211_3819.png
END:VEVENT
BEGIN:VEVENT
DTSTART;TZID=Europe/Warsaw:20220820T080000
DTEND;TZID=Europe/Warsaw:20220821T170000
DTSTAMP:20260421T123941
CREATED:20220204T105446Z
LAST-MODIFIED:20220204T105446Z
UID:2503-1660982400-1661101200@triathlonlublin.pl
SUMMARY:Elemental Tri Series Białystok - MP Olimpijka
DESCRIPTION:
URL:https://triathlonlublin.pl/event/elemental-tri-series-bialystok-mp-olimpijka/
LOCATION:Białystok
CATEGORIES:Triathlon
ATTACH;FMTTYPE=image/png:https://triathlonlublin.pl/wp-content/uploads/2022/02/logo_ETS_.png
END:VEVENT
BEGIN:VEVENT
DTSTART;TZID=Europe/Warsaw:20220814T080000
DTEND;TZID=Europe/Warsaw:20220814T170000
DTSTAMP:20260421T123941
CREATED:20220202T100212Z
LAST-MODIFIED:20220202T100212Z
UID:2485-1660464000-1660496400@triathlonlublin.pl
SUMMARY:Garmin Iron Triathlon Brodnica
DESCRIPTION:
URL:https://triathlonlublin.pl/event/garmin-iron-triathlon-brodnica/
LOCATION:Brodnica
CATEGORIES:1/2 Ironman 70.3 (1,9-90-21),1/4 Ironman (0,95-45-10,55),1/8 sprint (0,75-20-5),Triathlon
ATTACH;FMTTYPE=image/jpeg:https://triathlonlublin.pl/wp-content/uploads/2022/02/brodnica.jpg
END:VEVENT
BEGIN:VEVENT
DTSTART;TZID=Europe/Warsaw:20220805T080000
DTEND;TZID=Europe/Warsaw:20220805T170000
DTSTAMP:20260421T123941
CREATED:20220129T171550Z
LAST-MODIFIED:20220129T171606Z
UID:2460-1659686400-1659718800@triathlonlublin.pl
SUMMARY:Enea IRONMAN Gdynia
DESCRIPTION:
URL:https://triathlonlublin.pl/event/enea-ironman-70-3-gdynia/
LOCATION:Gdynia
CATEGORIES:1/2 Ironman 70.3 (1,9-90-21),1/8 sprint (0,75-20-5),Triathlon
ATTACH;FMTTYPE=image/png:https://triathlonlublin.pl/wp-content/uploads/2022/01/IRONMAN_Gdynia_2021_Post.png
END:VEVENT
BEGIN:VEVENT
DTSTART;TZID=Europe/Warsaw:20220731T080000
DTEND;TZID=Europe/Warsaw:20220731T170000
DTSTAMP:20260421T123941
CREATED:20220204T104631Z
LAST-MODIFIED:20220204T104631Z
UID:2496-1659254400-1659286800@triathlonlublin.pl
SUMMARY:MP Polski w Triathlonie Kraków
DESCRIPTION:MISTRZOSTWA POLSKI W TRIATHLONIE NA DYSTANSIE SUPERSPRINT 0\,75-20-5 (AGE-GROUP)\nDYSTANS SUPERSPRINT BEZ DRAFITNGU (0\,3-8-2) \nKraków\, 31.07.2022
URL:https://triathlonlublin.pl/event/mp-polski-w-triathlonie-krakow/
LOCATION:Kraków
CATEGORIES:1/8 super sprint (0,45-20-5),Triathlon
ATTACH;FMTTYPE=image/png:https://triathlonlublin.pl/wp-content/uploads/2022/02/logo_ETS_.png
END:VEVENT
BEGIN:VEVENT
DTSTART;TZID=Europe/Warsaw:20220717T080000
DTEND;TZID=Europe/Warsaw:20220717T170000
DTSTAMP:20260421T123941
CREATED:20220322T090346Z
LAST-MODIFIED:20220322T090346Z
UID:2559-1658044800-1658077200@triathlonlublin.pl
SUMMARY:LOTTO Triathlon Energy Lublin
DESCRIPTION:Zawody w Lublinie oferują zawodnikom do wyboru pełen asortyment dystansów. Począwszy od dystansu dla zaawansowanych zawodników\, czyli 1/2 IM (1\,9 km pływania – 90 km jazdy rowerem – 21\,1 km biegu) przez dystans dla każdego\, czyli 1/4 IM (950 m pływania – 45 km jazdy rowerem – 10\,5 km biegu) do dystansu dla początkujących i debiutantów\, czyli 1/8 IM (475 m pływania – 22\,5 km jazdy rowerem – 5\,25 km biegu). \nEtap pływacki lubelskich zawodów zostanie rozegrany w Zalewie Zemborzyckim\, strefa zmian będzie ulokowana bardzo blisko wyjścia z wody. Trasa kolarska po dobrej jakości asfalcie poprowadzona zostanie w kierunku Bychawy\, a etap biegowy rozegrany zostanie na ścieżkach pieszo – rowerowych wzdłuż Zalewu Zemborzyckiego. \n– Od dłuższego czasu pracowaliśmy nad organizacją wydarzenia triathlonowego w Lublinie\, tym bardziej cieszę się\, że wszystko udało się ustalić i możemy zaprosić zawodników na bardzo atrakcyjnie zapowiadające się zawody w Lublinie – mówi Adam Greczyło\, dyrektor zawodów. \nPrzez pierwszy tydzień rejestracji do 27 marca 2022 roku zawodnicy mają do dyspozycji najniższe ceny pakietów startowych rozpoczynające się od 149 pln dla dystansu 1/8 IM\, poprzez 199 pln dla 1/4 IM i 249 pln dla 1/2 IM. Zgłoszenia na zawody w Lublinie wystartują w pierwszy dzień kalendarzowej wiosny\, czyli 21 marca o godzinie 17:00.
URL:https://triathlonlublin.pl/event/lotto-triathlon-energy-lublin/
LOCATION:Lublin
CATEGORIES:1/2 Ironman 70.3 (1,9-90-21),1/4 Ironman (0,95-45-10,55),1/8 sprint (0,75-20-5),Triathlon
ATTACH;FMTTYPE=image/jpeg:https://triathlonlublin.pl/wp-content/uploads/2022/03/lotto.jpg
END:VEVENT
BEGIN:VEVENT
DTSTART;TZID=Europe/Warsaw:20220708T080000
DTEND;TZID=Europe/Warsaw:20220710T170000
DTSTAMP:20260421T123941
CREATED:20220119T073642Z
LAST-MODIFIED:20220129T164808Z
UID:2425-1657267200-1657472400@triathlonlublin.pl
SUMMARY:ENEA Bydgoszcz Triathlon
DESCRIPTION:Harmonogram lipiec 2022 \nPIĄTEK 08.07.2022 \n17:00 – 21:00 Wydawanie pakietów startowych w biurze zawodów w Hali Immobile Łuczniczka\n17:00 – 21:00 Targi sprzętu sportowego EXPO przed Halą Torbyd\n17:00 – 21:00 Food Truck Festiwal przed Halą Torbyd\n17:00 – 21:00 Pasta Party dla dystansu 1/4 i Decathlon TRYathlon  z numerem startowym na Food Truck Festiwalu (Stanowisko Live-Food)\n18:00 – 21:30 Wstawianie rowerów do strefy zmian (tylko dla startujących indywidualnie w sobotę) dla dystansów 1/4 i Dectahlon TRYathlon\n19:00 Odprawa techniczna online \nSOBOTA 09.07.2022\n06:30 – 07:30 Wstawianie rowerów do strefy zmian a Hali Arena (tylko Decathlon TRYathlon)\n07:00 – 09:00 Wydawanie pakietów startowych w biurze zawodów w Hali Immobile Łuczniczka (Decathlon TRYathlon i 1/4)\n08:00 – 09:15 Wstawianie rowerów do strefy zmian w Hali Immobile Łuczniczka (tylko dystans 1/4)\n09:00 – 21:00 Wydawanie pakietów startowych w biurze zawodów w Hali Immobile Łuczniczka (1/2 i 1/8)\n09:00 – 21:00 Food Truck Festiwal przed Halą Torbyd\n09:00 – 21:00 Targi sprzętu sportowego EXPO przed Halą Torbyd\n09:00 – 21:00 Pasta Party dla dystansu 1/2 i 1/8  z numerem startowym na Food Truck Festiwalu (Stanowisko Live-Food)\n15:00 – 16:00 Dekoracja dystansu 1/4 na scenie przed Halą Immobile Łuczniczka\n17:00 – 18:00 Zawody dla dzieci Enea TRI FUN (start i meta na finiszu zawodów głównych)\n18:00 – 21:30 Wstawianie rowerów do strefy zmian (tylko startujący indywidualnie na 1/2 i 1/8)\n19:00 Odprawa techniczna online \nSTARTY Decathlon TRYathlon\n08:00:00 Start zawodników (bez podziału na fale) – dwójkami co 5 sekund\nWydawanie rowerów ze strefy zmian od zjazdu z trasy ostatniego zawodnika do godz. 11.00 \nSTARTY 1/4\n10:00:00 Start Rozstawieni zawodnicy (1-25\, białe czepki) – dwójkami co 10 sekund\n10:02:00 Start I Grupy 1/4 (białe czepki) oraz sztafet – dwójkami co 10 sekund\n10:55:00 Start II Grupy 1/4 (czerwone czepki) – dwójkami co 10 sekund\n11:40.00 Start III Grupy 1/4 (niebieskie czepki) – dwójkami co 10 sekund\nWydawanie rowerów ze strefy zmian od zjazdu z trasy ostatniego zawodnika do godz. 16.30 \n  \nNIEDZIELA 10.07.2022 \n05:30 – 06:30 Dostęp do strefy zmian a Hali Arena (tylko dystans 1/2)\n09:00 – 11:00 Wydawanie pakietów startowych w biurze zawodów w Hali Immobile Łuczniczka dla dystansu ⅛\n09:00 – 11:00 Wstawianie rowerów do strefy zmian w Hali Immobile Łuczniczka (tylko dystans 1/8)\n09:00 – 15:00 Targi sprzętu sportowego EXPO przed Halą Torbyd\n09:00 – 18:00 Food Truck Festiwal przed Halą Torbyd\n15:00 Dekoracja 1/2 i 1/8 na scenie przed Halą Immobile Łuczniczka \nSTARTY 1/2\n07:00:00 Start Rozstawieni zawodnicy (1-20) – dwójkami co 8 sekund\n07:02:00 Start pozostali zawodnicy – dwójkami co 8 sekund\nWydawanie rowerów ze strefy od zjazdu z trasy ostatniego zawodnika do godz. 15.00 \nSTARTY 1/8\n12:00:00 Start Rozstawieni zawodnicy (1-20\, białe czepki) – dwójkami co 8 sekund\n12:01:40 Start I Grupy 1/8 (białe czepki) oraz sztafet – dwójkami co 8 sekund\n12:40:00 Start II Grupy 1/8 (czerwone czepki) – dwójkami co 8 sekund\n13:10.00 Start III Grupy 1/8 (niebieskie czepki) – dwójkami co 8 sekund\nWydawanie rowerów ze strefy od zjazdu z trasy ostatniego zawodnika do godz. 17.30
URL:https://triathlonlublin.pl/event/enea-bydgoszcz-triathlon/
LOCATION:Bygdoszcz\, Poland
ATTACH;FMTTYPE=image/jpeg:https://triathlonlublin.pl/wp-content/uploads/2022/01/bydgoszcz_TRI.jpg
END:VEVENT
BEGIN:VEVENT
DTSTART;TZID=Europe/Warsaw:20220703T080000
DTEND;TZID=Europe/Warsaw:20220703T170000
DTSTAMP:20260421T123941
CREATED:20220405T072739Z
LAST-MODIFIED:20220405T073041Z
UID:2575-1656835200-1656867600@triathlonlublin.pl
SUMMARY:Skaylink Trakai Triathlon 2022
DESCRIPTION:
URL:https://triathlonlublin.pl/event/skaylink-trakai-triathlon-2022/
LOCATION:Troki\, Lithuania
CATEGORIES:1/8 sprint (0,75-20-5),1/8 super sprint (0,45-20-5),dystans standard (1,5-40-10)
ATTACH;FMTTYPE=image/jpeg:https://triathlonlublin.pl/wp-content/uploads/2022/04/troki.jpg
END:VEVENT
BEGIN:VEVENT
DTSTART;TZID=Europe/Warsaw:20220701T080000
DTEND;TZID=Europe/Warsaw:20220703T170000
DTSTAMP:20260421T123941
CREATED:20220202T095827Z
LAST-MODIFIED:20220202T095909Z
UID:2481-1656662400-1656867600@triathlonlublin.pl
SUMMARY:Susz Triathlon
DESCRIPTION:
URL:https://triathlonlublin.pl/event/susz-triathlon/
LOCATION:Susz
CATEGORIES:1/2 Ironman 70.3 (1,9-90-21),1/8 sprint (0,75-20-5),Triathlon
ATTACH;FMTTYPE=image/jpeg:https://triathlonlublin.pl/wp-content/uploads/2022/02/susz-triathlon-2022kontakt.jpg
END:VEVENT
BEGIN:VEVENT
DTSTART;TZID=Europe/Warsaw:20220618T080000
DTEND;TZID=Europe/Warsaw:20220619T170000
DTSTAMP:20260421T123941
CREATED:20220129T171218Z
LAST-MODIFIED:20220129T171218Z
UID:2456-1655539200-1655658000@triathlonlublin.pl
SUMMARY:Triathlon w Zimnej Wodzie 2022
DESCRIPTION:
URL:https://triathlonlublin.pl/event/triathlon-w-zimnej-wodzie-2022/
LOCATION:Łuków
CATEGORIES:1/2 Ironman 70.3 (1,9-90-21),1/4 Ironman (0,95-45-10,55),1/8 sprint (0,75-20-5),Triathlon
ATTACH;FMTTYPE=image/png:https://triathlonlublin.pl/wp-content/uploads/2022/01/zimna_woda.png
END:VEVENT
BEGIN:VEVENT
DTSTART;TZID=Europe/Warsaw:20220612T080000
DTEND;TZID=Europe/Warsaw:20220612T170000
DTSTAMP:20260421T123941
CREATED:20220131T175812Z
LAST-MODIFIED:20220131T175812Z
UID:2469-1655020800-1655053200@triathlonlublin.pl
SUMMARY:Citi Handlowy 5150 Warsaw
DESCRIPTION:
URL:https://triathlonlublin.pl/event/citi-handlowy-5150-warsaw/
LOCATION:Warszawa
CATEGORIES:Ironman (3,8-180-42),Triathlon
ATTACH;FMTTYPE=image/png:https://triathlonlublin.pl/wp-content/uploads/2022/01/Wawa_Citi_logo_duo.png
END:VEVENT
BEGIN:VEVENT
DTSTART;VALUE=DATE:20220605
DTEND;VALUE=DATE:20220606
DTSTAMP:20260421T123941
CREATED:20220119T104941Z
LAST-MODIFIED:20220129T164921Z
UID:2430-1654387200-1654473599@triathlonlublin.pl
SUMMARY:Triathlon Rzeszów
DESCRIPTION:Mistrzostwa Polski (Age-Group) – Rzeszów 2022 – dystans sprinterski (0\,75-20-5) 2022-06-05 limit wieku: 16-\n\n\n\n\n\n\n\n\n\nTriathlon Rzeszów 2022 – dystans standard (1\,5-40-10) 2022-06-05 limit wieku: 18-
URL:https://triathlonlublin.pl/event/triathlon-rzeszow/
LOCATION:Rzeszów\, Rzeszów\, Poland
CATEGORIES:1/8 sprint (0,75-20-5),dystans standard (1,5-40-10),Triathlon
ATTACH;FMTTYPE=image/jpeg:https://triathlonlublin.pl/wp-content/uploads/2022/01/tri_rzeszow.jpg
END:VEVENT
BEGIN:VEVENT
DTSTART;TZID=Europe/Warsaw:20220604T090000
DTEND;TZID=Europe/Warsaw:20220604T120000
DTSTAMP:20260421T123941
CREATED:20220531T091213Z
LAST-MODIFIED:20220531T094050Z
UID:2632-1654333200-1654344000@triathlonlublin.pl
SUMMARY:PKO Półmaraton Solidarności
DESCRIPTION:
URL:https://triathlonlublin.pl/event/pko-polmaraton-solidarnosci/
CATEGORIES:Półmaraton 21,0975 km
END:VEVENT
BEGIN:VEVENT
DTSTART;TZID=Europe/Warsaw:20220604T080000
DTEND;TZID=Europe/Warsaw:20220604T170000
DTSTAMP:20260421T123941
CREATED:20220205T084636Z
LAST-MODIFIED:20220205T084636Z
UID:2507-1654329600-1654362000@triathlonlublin.pl
SUMMARY:Osiek Triathlon
DESCRIPTION:
URL:https://triathlonlublin.pl/event/osiek-triathlon/
LOCATION:Osiek\, Poland
CATEGORIES:1/4 Ironman (0,95-45-10,55),1/8 sprint (0,75-20-5),Triathlon
ATTACH;FMTTYPE=image/png:https://triathlonlublin.pl/wp-content/uploads/2022/02/logo_osiektriathlon.png
END:VEVENT
BEGIN:VEVENT
DTSTART;VALUE=DATE:20220529
DTEND;VALUE=DATE:20220530
DTSTAMP:20260421T123941
CREATED:20220129T164404Z
LAST-MODIFIED:20220129T164404Z
UID:2447-1653782400-1653868799@triathlonlublin.pl
SUMMARY:Triathlon próbny LGT - Białka Parczewska
DESCRIPTION:
URL:https://triathlonlublin.pl/event/triathlon-probny-lgt-bialka-parczewska/
LOCATION:Białka Parczewska\, Poland
CATEGORIES:1/8 super sprint (0,45-20-5),Triathlon
ATTACH;FMTTYPE=image/jpeg:https://triathlonlublin.pl/wp-content/uploads/2020/08/lgt_sprint-1.jpg
END:VEVENT
BEGIN:VEVENT
DTSTART;TZID=Europe/Warsaw:20220528T080000
DTEND;TZID=Europe/Warsaw:20220529T170000
DTSTAMP:20260421T123941
CREATED:20220204T105117Z
LAST-MODIFIED:20220204T105117Z
UID:2500-1653724800-1653843600@triathlonlublin.pl
SUMMARY:Elemental Triathlon Series Olsztyn
DESCRIPTION:
URL:https://triathlonlublin.pl/event/elemental-triathlon-series-olsztyn/
LOCATION:Olsztyn
CATEGORIES:1/8 sprint (0,75-20-5),1/8 super sprint (0,45-20-5),dystans standard (1,5-40-10),Triathlon
ATTACH;FMTTYPE=image/png:https://triathlonlublin.pl/wp-content/uploads/2022/02/logo_ETS_.png
END:VEVENT
BEGIN:VEVENT
DTSTART;TZID=Europe/Warsaw:20220430T080000
DTEND;TZID=Europe/Warsaw:20220430T170000
DTSTAMP:20260421T123941
CREATED:20220203T082717Z
LAST-MODIFIED:20220405T070608Z
UID:2489-1651305600-1651338000@triathlonlublin.pl
SUMMARY:I duathlon pamięci Gen. Franciszka Kleeberga
DESCRIPTION:
URL:https://triathlonlublin.pl/event/i-duathlon-pamieci-gen-franciszka-kleeberga/
LOCATION:Wola Gułowska
CATEGORIES:Duathlon
ATTACH;FMTTYPE=image/jpeg:https://triathlonlublin.pl/wp-content/uploads/2022/02/duathlon_kleberga.jpg
END:VEVENT
END:VCALENDAR